BEGIN:VCALENDAR
VERSION:2.0
PRODID:-//airdrielife magazine - ECPv6.15.12.2//NONSGML v1.0//EN
CALSCALE:GREGORIAN
METHOD:PUBLISH
X-WR-CALNAME:airdrielife magazine
X-ORIGINAL-URL:https://airdrielife.com
X-WR-CALDESC:Events for airdrielife magazine
REFRESH-INTERVAL;VALUE=DURATION:PT1H
X-Robots-Tag:noindex
X-PUBLISHED-TTL:PT1H
BEGIN:VTIMEZONE
TZID:America/Edmonton
BEGIN:DAYLIGHT
TZOFFSETFROM:-0700
TZOFFSETTO:-0600
TZNAME:MDT
DTSTART:20210314T090000
END:DAYLIGHT
BEGIN:STANDARD
TZOFFSETFROM:-0600
TZOFFSETTO:-0700
TZNAME:MST
DTSTART:20211107T080000
END:STANDARD
BEGIN:DAYLIGHT
TZOFFSETFROM:-0700
TZOFFSETTO:-0600
TZNAME:MDT
DTSTART:20220313T090000
END:DAYLIGHT
BEGIN:STANDARD
TZOFFSETFROM:-0600
TZOFFSETTO:-0700
TZNAME:MST
DTSTART:20221106T080000
END:STANDARD
BEGIN:DAYLIGHT
TZOFFSETFROM:-0700
TZOFFSETTO:-0600
TZNAME:MDT
DTSTART:20230312T090000
END:DAYLIGHT
BEGIN:STANDARD
TZOFFSETFROM:-0600
TZOFFSETTO:-0700
TZNAME:MST
DTSTART:20231105T080000
END:STANDARD
END:VTIMEZONE
BEGIN:VEVENT
DTSTART;TZID=America/Edmonton:20220608T180000
DTEND;TZID=America/Edmonton:20220608T210000
DTSTAMP:20260424T022740
CREATED:20220529T033018Z
LAST-MODIFIED:20220529T033018Z
UID:14303-1654711200-1654722000@airdrielife.com
SUMMARY:Alcohol Ink Stained Glass Lantern
DESCRIPTION:Create a faux stained glass effect on the panels of a tealight lantern. \n\n\nAbout this event\n\n\n\nFor everyone who is interested in ALCOHOL INK and its amazing versatility….this workshop is for you! Pair it up with the tastiest handcrafted pizza at THE MASH in Airdrie and it gets even better. If you’re of drinking age\, their microbrewed beer is awesome. \nThis workshop is for all beginners and all ages! Absolutely no experience in working with alcohol ink is necessary – just come with the willingness to play and have some fun. Grab a friend to tag along with you\, bring a family member or your spouse to enjoy a great experience PIZZA +CRAFTING+FRIENDS+DRINKS= AMAZING FUN! \nAlcohol ink is versatile\, unpredictable\, mesmerizing\, relaxing and affordable! Alcohol ink art spans across talent levels and experience because it’s not really a medium that lends itself well to being controlled – which is why is perfect for beginners and established artists alike. There are always happy accidents that delight and surprise. No matter what you think of your creativity\, everyone will make something beautiful during this workshop and will take home a one-of-a-kind lantern at the end of the evening! \nNOTE: We will be using 91% isopropyl alcohol which does have a strong odor (VOC). \nAll supplies necessary for this workshop are provided in the registration fee. Gloves are provided because this ink stains so dress appropriately. \nPreferred registration by etransfer to memoriesaremade@gmail.com or HERE \nIf you have any questions\, please contact the Creative Coach BerylAnne at 403.483.7270 \nAddress for The Mash restaurant is 113\, 400 Main Street NE Airdrie 403.980.1557
URL:https://airdrielife.com/event/alcohol-ink-stained-glass-lantern/
LOCATION:The Mash\, 113 400 Main St N\, Airdrie\, AB\, Canada
END:VEVENT
BEGIN:VEVENT
DTSTART;TZID=America/Edmonton:20220427T180000
DTEND;TZID=America/Edmonton:20220427T210000
DTSTAMP:20260424T022740
CREATED:20220316T183352Z
LAST-MODIFIED:20220316T183352Z
UID:14079-1651082400-1651093200@airdrielife.com
SUMMARY:Artsy Fartsy Studio Presents - Paint Night at The MASH Airdrie
DESCRIPTION:Paint Night is $30 each and includes a drink. Recommended for ages 10+. Please show up a few minutes early to get settled and wear old clothes. To confirm your spots please email artist Shawnee Hoffman artsyfartsysh@hotmail.com\n\nRefunds will only be available up until 24 hours before class and cannot be carried over to other classes. 
URL:https://airdrielife.com/event/artsy-fartsy-studio-presents-paint-night-at-the-mash-airdrie/
LOCATION:The Mash\, 113 400 Main St N\, Airdrie\, AB\, Canada
END:VEVENT
BEGIN:VEVENT
DTSTART;TZID=America/Edmonton:20220120T180000
DTEND;TZID=America/Edmonton:20220120T203000
DTSTAMP:20260424T022740
CREATED:20220112T025536Z
LAST-MODIFIED:20220112T042859Z
UID:13431-1642701600-1642710600@airdrielife.com
SUMMARY:Mash Paint Night
DESCRIPTION:Join us as Artist Shawnee Hoffman of Artsy Fartsy Studio guides us step by step in their Northern Lights painting. \n$30 per person  \nTo Register – Email and send payment to: artsyfartsysh@hotmail.com \nRefunds will be given up to 24hrs before the class.
URL:https://airdrielife.com/event/mash-paint-night/
LOCATION:The Mash\, 113 400 Main St N\, Airdrie\, AB\, Canada
END:VEVENT
END:VCALENDAR