BEGIN:VCALENDAR
VERSION:2.0
PRODID:-//airdrielife magazine - ECPv6.15.12.2//NONSGML v1.0//EN
CALSCALE:GREGORIAN
METHOD:PUBLISH
X-WR-CALNAME:airdrielife magazine
X-ORIGINAL-URL:https://airdrielife.com
X-WR-CALDESC:Events for airdrielife magazine
REFRESH-INTERVAL;VALUE=DURATION:PT1H
X-Robots-Tag:noindex
X-PUBLISHED-TTL:PT1H
BEGIN:VTIMEZONE
TZID:America/Edmonton
BEGIN:DAYLIGHT
TZOFFSETFROM:-0700
TZOFFSETTO:-0600
TZNAME:MDT
DTSTART:20210314T090000
END:DAYLIGHT
BEGIN:STANDARD
TZOFFSETFROM:-0600
TZOFFSETTO:-0700
TZNAME:MST
DTSTART:20211107T080000
END:STANDARD
BEGIN:DAYLIGHT
TZOFFSETFROM:-0700
TZOFFSETTO:-0600
TZNAME:MDT
DTSTART:20220313T090000
END:DAYLIGHT
BEGIN:STANDARD
TZOFFSETFROM:-0600
TZOFFSETTO:-0700
TZNAME:MST
DTSTART:20221106T080000
END:STANDARD
BEGIN:DAYLIGHT
TZOFFSETFROM:-0700
TZOFFSETTO:-0600
TZNAME:MDT
DTSTART:20230312T090000
END:DAYLIGHT
BEGIN:STANDARD
TZOFFSETFROM:-0600
TZOFFSETTO:-0700
TZNAME:MST
DTSTART:20231105T080000
END:STANDARD
BEGIN:DAYLIGHT
TZOFFSETFROM:-0700
TZOFFSETTO:-0600
TZNAME:MDT
DTSTART:20240310T090000
END:DAYLIGHT
BEGIN:STANDARD
TZOFFSETFROM:-0600
TZOFFSETTO:-0700
TZNAME:MST
DTSTART:20241103T080000
END:STANDARD
BEGIN:DAYLIGHT
TZOFFSETFROM:-0700
TZOFFSETTO:-0600
TZNAME:MDT
DTSTART:20250309T090000
END:DAYLIGHT
BEGIN:STANDARD
TZOFFSETFROM:-0600
TZOFFSETTO:-0700
TZNAME:MST
DTSTART:20251102T080000
END:STANDARD
END:VTIMEZONE
BEGIN:VEVENT
DTSTART;TZID=America/Edmonton:20240612T153000
DTEND;TZID=America/Edmonton:20240612T190000
DTSTAMP:20260420T004025
CREATED:20240528T070342Z
LAST-MODIFIED:20240528T070342Z
UID:19189-1718206200-1718218800@airdrielife.com
SUMMARY:Airdrie Farmers Market
DESCRIPTION:Open Rain or Shine! June 5th-Thanksgiving every Wednesday 3:30-7:00 pm. \nFresh produce\, baking\, perogies food trucks and more! \nNote: The only way to be a vendor at this market is to email: info@airdriefarmersmarket.com please to not reply to any messages on facebook as those are scams. \nThis is an open food market\, no dogs or pets allowed within the market aisles/around food booths etc.
URL:https://airdrielife.com/event/airdrie-farmers-market-3/2024-06-12/
LOCATION:Plainsmen Arena\, 320 Centre Ave E\, Airdrie\, Alberta\, Canada
END:VEVENT
BEGIN:VEVENT
DTSTART;TZID=America/Edmonton:20240605T153000
DTEND;TZID=America/Edmonton:20240605T190000
DTSTAMP:20260420T004025
CREATED:20240528T070342Z
LAST-MODIFIED:20240528T070342Z
UID:19187-1717601400-1717614000@airdrielife.com
SUMMARY:Airdrie Farmers Market
DESCRIPTION:Open Rain or Shine! June 5th-Thanksgiving every Wednesday 3:30-7:00 pm. \nFresh produce\, baking\, perogies food trucks and more! \nNote: The only way to be a vendor at this market is to email: info@airdriefarmersmarket.com please to not reply to any messages on facebook as those are scams. \nThis is an open food market\, no dogs or pets allowed within the market aisles/around food booths etc.
URL:https://airdrielife.com/event/airdrie-farmers-market-3/
LOCATION:Plainsmen Arena\, 320 Centre Ave E\, Airdrie\, Alberta\, Canada
END:VEVENT
BEGIN:VEVENT
DTSTART;TZID=America/Edmonton:20240219T110000
DTEND;TZID=America/Edmonton:20240219T183000
DTSTAMP:20260420T004025
CREATED:20240124T082635Z
LAST-MODIFIED:20240124T082635Z
UID:18424-1708340400-1708367400@airdrielife.com
SUMMARY:Funky Family Day Skate
DESCRIPTION:Make your Family Day fun and funky at Plainsmen arena\, Feb. 19! Join us for a Funky Family Day Skate\, full of retro-rink vibes with laser lights\, haze and music – on ice! \nPlease note this event involves the use of flashing or strobing lights\, as well as smoke haze and thus may not be suitable for those with associated sensitivities. \nALL SKATING SAFETY GUIDELINES ARE APPLICABLE. CSA (Canadian Standards Association) helmets are highly recommended for all skaters. Helmets must be worn by all skaters 12 years of age and under. \nPurchase tickets starting Feb. 1. Tickets are just $5 per person and are available in 90-minute time-slots to allow for room to skate.
URL:https://airdrielife.com/event/funky-family-day-skate/
LOCATION:Plainsmen Arena\, 320 Centre Ave E\, Airdrie\, Alberta\, Canada
END:VEVENT
BEGIN:VEVENT
DTSTART;TZID=America/Edmonton:20230629T163000
DTEND;TZID=America/Edmonton:20230629T183000
DTSTAMP:20260420T004025
CREATED:20230628T075828Z
LAST-MODIFIED:20230628T075854Z
UID:17086-1688056200-1688063400@airdrielife.com
SUMMARY:The Great Benjamins Circus
DESCRIPTION:The Great Benjamins Circus is back with 2 shows (4:30 pm and 7:15 pm) June 29 and June 30. \nCOME CHECK OUT: \n\nhigh-flying aerial acts\nhead-spinning jugglers\ndeath-defying high-speed motorbikes in the cage of death\nstunning acrobatics\, hilarious clowns\, and more.\n\nGreat Benjamins Circus is a family-friendly event aimed at providing a memorable experience for the whole family! \nLook out for free child coupons at a school or daycare near you.
URL:https://airdrielife.com/event/the-great-benjamins-circus/2023-06-29/
LOCATION:Plainsmen Arena\, 320 Centre Ave E\, Airdrie\, Alberta\, Canada
ATTACH;FMTTYPE=image/jpeg:https://airdrielife.com/wp-content/uploads/2023/06/ben-circus-small.jpg
END:VEVENT
BEGIN:VEVENT
DTSTART;TZID=America/Edmonton:20230220T110000
DTEND;TZID=America/Edmonton:20230220T183000
DTSTAMP:20260420T004025
CREATED:20230201T102825Z
LAST-MODIFIED:20230215T023703Z
UID:16030-1676890800-1676917800@airdrielife.com
SUMMARY:Funky Family Day Skate at Plainsmen Arena
DESCRIPTION:Make your Family Day fun and funky with this all-ages skate full of retro-rink vibes\, laser lights\, smoke haze and music – on ice! Pre-purchase tickets to the Funky Family Day Skate for $10 per person starting Feb. 1. Multiple sessions available. Limited ticket sales will be available at entry with cash or credit (no debit).
URL:https://airdrielife.com/event/funky-family-day-skate-at-plainsmen-arena/
LOCATION:Plainsmen Arena\, 320 Centre Ave E\, Airdrie\, Alberta\, Canada
ATTACH;FMTTYPE=image/jpeg:https://airdrielife.com/wp-content/uploads/2023/02/funky-skate-900.jpg
END:VEVENT
BEGIN:VEVENT
DTSTART;TZID=America/Edmonton:20220601T153000
DTEND;TZID=America/Edmonton:20220601T190000
DTSTAMP:20260420T004025
CREATED:20220530T170522Z
LAST-MODIFIED:20220530T170522Z
UID:14341-1654097400-1654110000@airdrielife.com
SUMMARY:Airdrie Farmers Market
DESCRIPTION:Airdrie Famers Market Summer Season begins!  \nRain or Shine- every Wednesday  3:30 – 7:00 pm @ The Plainsmen Arena \nNo foot traffic is permitted prior to 3pm- we appreciate your patience\, in letting us get our vendors parked safely.
URL:https://airdrielife.com/event/airdrie-farmers-market/2022-06-01/
LOCATION:Plainsmen Arena\, 320 Centre Ave E\, Airdrie\, Alberta\, Canada
END:VEVENT
END:VCALENDAR