BEGIN:VCALENDAR
VERSION:2.0
PRODID:-//airdrielife magazine - ECPv6.15.12.2//NONSGML v1.0//EN
CALSCALE:GREGORIAN
METHOD:PUBLISH
X-WR-CALNAME:airdrielife magazine
X-ORIGINAL-URL:https://airdrielife.com
X-WR-CALDESC:Events for airdrielife magazine
REFRESH-INTERVAL;VALUE=DURATION:PT1H
X-Robots-Tag:noindex
X-PUBLISHED-TTL:PT1H
BEGIN:VTIMEZONE
TZID:America/Edmonton
BEGIN:DAYLIGHT
TZOFFSETFROM:-0700
TZOFFSETTO:-0600
TZNAME:MDT
DTSTART:20230312T090000
END:DAYLIGHT
BEGIN:STANDARD
TZOFFSETFROM:-0600
TZOFFSETTO:-0700
TZNAME:MST
DTSTART:20231105T080000
END:STANDARD
BEGIN:DAYLIGHT
TZOFFSETFROM:-0700
TZOFFSETTO:-0600
TZNAME:MDT
DTSTART:20240310T090000
END:DAYLIGHT
BEGIN:STANDARD
TZOFFSETFROM:-0600
TZOFFSETTO:-0700
TZNAME:MST
DTSTART:20241103T080000
END:STANDARD
BEGIN:DAYLIGHT
TZOFFSETFROM:-0700
TZOFFSETTO:-0600
TZNAME:MDT
DTSTART:20250309T090000
END:DAYLIGHT
BEGIN:STANDARD
TZOFFSETFROM:-0600
TZOFFSETTO:-0700
TZNAME:MST
DTSTART:20251102T080000
END:STANDARD
BEGIN:DAYLIGHT
TZOFFSETFROM:-0700
TZOFFSETTO:-0600
TZNAME:MDT
DTSTART:20260308T090000
END:DAYLIGHT
BEGIN:STANDARD
TZOFFSETFROM:-0600
TZOFFSETTO:-0700
TZNAME:MST
DTSTART:20261101T080000
END:STANDARD
END:VTIMEZONE
BEGIN:VEVENT
DTSTART;TZID=America/Edmonton:20250719T150000
DTEND;TZID=America/Edmonton:20250719T210000
DTSTAMP:20260419T161523
CREATED:20250716T045710Z
LAST-MODIFIED:20250716T045710Z
UID:22505-1752937200-1752958800@airdrielife.com
SUMMARY:Music and Makers Night Market
DESCRIPTION:Join us at the “Music & Makers” Night Market! \nOUTDOOR STAGE – FACE PAINTING – BALLOON ARTIST – FOOD TRUCKS – 40+ VENDORS – INTERACTIVE GAMES \nKick back and enjoy live performances on our outdoor stage.Browse handcrafted goods and unique finds from our amazing local makers.Grab a bite from one of our delicious food trucks\, sweet\, savoury and everything in between. \nDon’t miss out – come celebrate local talent and creativity at this FREE family event.
URL:https://airdrielife.com/event/music-and-makers-night-market/
LOCATION:City Hall\, 400 Main St S
END:VEVENT
BEGIN:VEVENT
DTSTART;TZID=America/Edmonton:20250628T103000
DTEND;TZID=America/Edmonton:20250628T120000
DTSTAMP:20260419T161523
CREATED:20250603T183935Z
LAST-MODIFIED:20250603T183935Z
UID:22276-1751106600-1751112000@airdrielife.com
SUMMARY:Pride in the Community Solidarity Walk
DESCRIPTION:Airdrie Pride Society presents “Pride is Community”! \nOur 2025 Airdrie Pride Society Pride Festival and Solidarity is coming June 28th\, 2025 at Nose Creek Park! We are excited to partner with so many great supporters in the community. \n\n\nWe will meet at City Hall for a short speech and then begin our walk with Disabled\, Indigenous and People of Colour leading the way.  Please remember no uniforms or advertisements. To learn more about why a we choose a solidarity walk instead of a parade head here
URL:https://airdrielife.com/event/pride-in-the-community-solidarity-walk/
LOCATION:City Hall\, 400 Main St S
ATTACH;FMTTYPE=image/jpeg:https://airdrielife.com/wp-content/uploads/2025/06/pride-79.jpg
END:VEVENT
BEGIN:VEVENT
DTSTART;TZID=America/Edmonton:20250614T110000
DTEND;TZID=America/Edmonton:20250614T160000
DTSTAMP:20260419T161523
CREATED:20250528T031322Z
LAST-MODIFIED:20250611T070903Z
UID:22072-1749898800-1749916800@airdrielife.com
SUMMARY:Father's Day Market
DESCRIPTION:Join us at Airdrie City Hall for a day of shopping\, contests and fun. Treat your dad to unique gifts\, tasty treats\, and special finds from local vendors. Whether your dad is a foodie\, sports fan\, or outdoorsy type\, you’ll find something perfect for him here
URL:https://airdrielife.com/event/fathers-day-market/
LOCATION:City Hall\, 400 Main St S
END:VEVENT
BEGIN:VEVENT
DTSTART;TZID=America/Edmonton:20240824T160000
DTEND;TZID=America/Edmonton:20240824T210000
DTSTAMP:20260419T161523
CREATED:20240807T070541Z
LAST-MODIFIED:20240807T070541Z
UID:19767-1724515200-1724533200@airdrielife.com
SUMMARY:Hawaiian Party Night Market
DESCRIPTION:Join us for our Hawaiian Party Night Market! Local vendors will be showcasing their handmade\, homemade and resale items. Take a night off cooking and grab something yummy from one of the food trucks. Our Hawaiian shave ice truck will be on location
URL:https://airdrielife.com/event/hawaiian-party-night-market/
LOCATION:City Hall\, 400 Main St S
END:VEVENT
BEGIN:VEVENT
DTSTART;TZID=America/Edmonton:20240720T160000
DTEND;TZID=America/Edmonton:20240720T210000
DTSTAMP:20260419T161523
CREATED:20240530T083521Z
LAST-MODIFIED:20240530T083521Z
UID:19327-1721491200-1721509200@airdrielife.com
SUMMARY:Christmas in July Night Market
DESCRIPTION:Get ready for a festive summer night filled with holiday cheer\, delicious treats\, and unique gifts at our Christmas in July Night Market! \nWelcome to the Christmas in July Night Market! Join us for a festive evening filled with holiday cheer\, delicious treats\, and unique gifts. The event will be held at City Hall on Main Street\, where you can browse through a variety of vendors offering handmade crafts\, tasty treats\, and more. Get into the holiday spirit early and enjoy the magic of Christmas in the middle of summer! Don’t miss out on this special event – mark your calendars now!
URL:https://airdrielife.com/event/christmas-in-july-night-market/
LOCATION:City Hall\, 400 Main St S
END:VEVENT
END:VCALENDAR