BEGIN:VCALENDAR
VERSION:2.0
PRODID:-//airdrielife magazine - ECPv6.15.12.2//NONSGML v1.0//EN
CALSCALE:GREGORIAN
METHOD:PUBLISH
X-ORIGINAL-URL:https://airdrielife.com
X-WR-CALDESC:Events for airdrielife magazine
REFRESH-INTERVAL;VALUE=DURATION:PT1H
X-Robots-Tag:noindex
X-PUBLISHED-TTL:PT1H
BEGIN:VTIMEZONE
TZID:America/Edmonton
BEGIN:DAYLIGHT
TZOFFSETFROM:-0700
TZOFFSETTO:-0600
TZNAME:MDT
DTSTART:20250309T090000
END:DAYLIGHT
BEGIN:STANDARD
TZOFFSETFROM:-0600
TZOFFSETTO:-0700
TZNAME:MST
DTSTART:20251102T080000
END:STANDARD
BEGIN:DAYLIGHT
TZOFFSETFROM:-0700
TZOFFSETTO:-0600
TZNAME:MDT
DTSTART:20260308T090000
END:DAYLIGHT
BEGIN:STANDARD
TZOFFSETFROM:-0600
TZOFFSETTO:-0700
TZNAME:MST
DTSTART:20261101T080000
END:STANDARD
BEGIN:DAYLIGHT
TZOFFSETFROM:-0700
TZOFFSETTO:-0600
TZNAME:MDT
DTSTART:20270314T090000
END:DAYLIGHT
BEGIN:STANDARD
TZOFFSETFROM:-0600
TZOFFSETTO:-0700
TZNAME:MST
DTSTART:20271107T080000
END:STANDARD
END:VTIMEZONE
BEGIN:VEVENT
DTSTART;TZID=America/Edmonton:20260424T193000
DTEND;TZID=America/Edmonton:20260424T220000
DTSTAMP:20260419T065548
CREATED:20260408T063322Z
LAST-MODIFIED:20260408T063322Z
UID:24874-1777059000-1777068000@airdrielife.com
SUMMARY:Travis Dolter\, Country Special
DESCRIPTION:A dynamic country music artist known for his high-energy performances and ability to connect with audiences. Travis has entertained audiences across Western Canada with highlights including performances at the Ponoka Stampede\, Country Thunder Alberta\, Big Valley Jamboree and the Calgary Stampede. Recently\, Travis has shared the Festival Place stage with Jojo Mason and Steven Lee Olson\, as an opener for their Country Night in Canada Tour. Expect a mix of contemporary country classics and Travis’ original music.
URL:https://airdrielife.com/event/travis-dolter-country-special/
LOCATION:Bert Church Live Theatre\, 1000 E Lake Blvd SE\, Airdrie\, Alberta\, T4A 2A1\, Canada
ATTACH;FMTTYPE=image/jpeg:https://airdrielife.com/wp-content/uploads/2026/04/Travis_Dolter_Country_Special.jpg
END:VEVENT
BEGIN:VEVENT
DTSTART;TZID=America/Edmonton:20260425T180000
DTEND;TZID=America/Edmonton:20260425T223000
DTSTAMP:20260419T065548
CREATED:20260415T042834Z
LAST-MODIFIED:20260415T042919Z
UID:24920-1777140000-1777156200@airdrielife.com
SUMMARY:16th Annual Amazing Airdrie Women Awards Gala
DESCRIPTION:IT’S GOING TO BE SWEET! \nJoin us Saturday April 25\, 2026\, at Bert Church Theatre for the 16th annual AMAZING Airdrie Women Awards gala. Almost 4000 Airdronians voted for their amazing women and we’re excited to see who the recipients are. \n\nOur “sweet 16” anniversary with a party fit for the 16-year-old in you. Think bubbles\, chocolates\, sweet treats\, a boy band and more!\n\nTickets are limited and selling fast! Get yours before it’s too late.\n\nPURCHASE TICKETS ONLINE >> tickets.airdrie.ca/ with $10 from every ticket sold going towards Wings Of Hope Breast Cancer Foundation.
URL:https://airdrielife.com/event/16th-annual-amazing-airdrie-women-awards-gala/
LOCATION:Bert Church Live Theatre\, 1000 E Lake Blvd SE\, Airdrie\, Alberta\, T4A 2A1\, Canada
ATTACH;FMTTYPE=image/jpeg:https://airdrielife.com/wp-content/uploads/2026/04/AAW-GALA-POSTER-45.jpg
END:VEVENT
END:VCALENDAR