BEGIN:VCALENDAR
VERSION:2.0
PRODID:-//airdrielife magazine - ECPv6.15.12.2//NONSGML v1.0//EN
CALSCALE:GREGORIAN
METHOD:PUBLISH
X-WR-CALNAME:airdrielife magazine
X-ORIGINAL-URL:https://airdrielife.com
X-WR-CALDESC:Events for airdrielife magazine
REFRESH-INTERVAL;VALUE=DURATION:PT1H
X-Robots-Tag:noindex
X-PUBLISHED-TTL:PT1H
BEGIN:VTIMEZONE
TZID:America/Edmonton
BEGIN:DAYLIGHT
TZOFFSETFROM:-0700
TZOFFSETTO:-0600
TZNAME:MDT
DTSTART:20210314T090000
END:DAYLIGHT
BEGIN:STANDARD
TZOFFSETFROM:-0600
TZOFFSETTO:-0700
TZNAME:MST
DTSTART:20211107T080000
END:STANDARD
BEGIN:DAYLIGHT
TZOFFSETFROM:-0700
TZOFFSETTO:-0600
TZNAME:MDT
DTSTART:20220313T090000
END:DAYLIGHT
BEGIN:STANDARD
TZOFFSETFROM:-0600
TZOFFSETTO:-0700
TZNAME:MST
DTSTART:20221106T080000
END:STANDARD
BEGIN:DAYLIGHT
TZOFFSETFROM:-0700
TZOFFSETTO:-0600
TZNAME:MDT
DTSTART:20230312T090000
END:DAYLIGHT
BEGIN:STANDARD
TZOFFSETFROM:-0600
TZOFFSETTO:-0700
TZNAME:MST
DTSTART:20231105T080000
END:STANDARD
BEGIN:DAYLIGHT
TZOFFSETFROM:-0700
TZOFFSETTO:-0600
TZNAME:MDT
DTSTART:20240310T090000
END:DAYLIGHT
BEGIN:STANDARD
TZOFFSETFROM:-0600
TZOFFSETTO:-0700
TZNAME:MST
DTSTART:20241103T080000
END:STANDARD
BEGIN:DAYLIGHT
TZOFFSETFROM:-0700
TZOFFSETTO:-0600
TZNAME:MDT
DTSTART:20250309T090000
END:DAYLIGHT
BEGIN:STANDARD
TZOFFSETFROM:-0600
TZOFFSETTO:-0700
TZNAME:MST
DTSTART:20251102T080000
END:STANDARD
END:VTIMEZONE
BEGIN:VEVENT
DTSTART;TZID=America/Edmonton:20240322T190000
DTEND;TZID=America/Edmonton:20240322T213000
DTSTAMP:20260419T111840
CREATED:20240320T071055Z
LAST-MODIFIED:20240320T071055Z
UID:18880-1711134000-1711143000@airdrielife.com
SUMMARY:Live Music: Doug Robb
DESCRIPTION:We are so excited to be welcoming Doug Robb to the taproom! Check out this incredible resume! \nFormerly the Frontman for Canadian Recording Artist Ministry of Zen\, Doug Robb has made a name for himself across Canada. With a 4 Octave vocal range (5 on a good day)\, his powerful voice has been compared to Steve Perry (Journey). With 3 successful cross-Canada Tours in support of Commercial Radio releases of Another Ride (2010)\, Lift (2010)\, and Anthem (2011) and 3 appearances at the INIC Showcase during Canadian Music Week (2009\, 2010\, 2012)\, Ministry of Zen was a buzz band with plenty of momentum. They earned direct support slots for household names like Our Lady Peace\, I Mother Earth\, David Wilcox\, Helix\, and Edwin & The Pressure until the band members decided to go their separate ways. \nSince then\, Doug has fronted numerous other projects (Cover & Tribute) and is currently the frontman for Edmonton’s Premier Cover Band\, Powerhouse as well as Cam Macleod’s White Wolf (original). Direct support slots with Artists such as Honeymoon Suite\, Darby Mills Project\, Rick Emmett (Triumph)\, Lee Aaron\, and Alannah Myles\, have continued to showcase Doug among Canada’s premier vocalists. \nMusic and singing is in Doug’s blood and now he is excited to be continuing his musical journey as a Singer/Songwriter\, performing his original songs and various cover songs acoustically. Doug’s voice will not only capture the audience’s attention but also hold it as they anticipate his soaring vocals and interactive show.
URL:https://airdrielife.com/event/live-music-doug-robb/
LOCATION:Atlas Brewing\, 2000 Market St #100\, Airdrie\, Ab\, Canada
END:VEVENT
BEGIN:VEVENT
DTSTART;TZID=America/Edmonton:20240223T190000
DTEND;TZID=America/Edmonton:20240223T190000
DTSTAMP:20260419T111840
CREATED:20240221T060434Z
LAST-MODIFIED:20240221T060434Z
UID:18694-1708714800-1708714800@airdrielife.com
SUMMARY:Live Music: Al Lukiw
DESCRIPTION:Airdrie mainstay and incredible talent Al Lukiw takes the Atlas stage for a solo show on Friday\, February 23! Bringing you a bit of everything from blues to country jazz\, Al is sure to entertain (he was called “the Chuck Norris of music” at a recent Open Mic because he can play every song!). Make your table reservations now.
URL:https://airdrielife.com/event/live-music-al-lukiw/
LOCATION:Atlas Brewing\, 2000 Market St #100\, Airdrie\, Ab\, Canada
END:VEVENT
BEGIN:VEVENT
DTSTART;TZID=America/Edmonton:20231201T190000
DTEND;TZID=America/Edmonton:20231201T220000
DTSTAMP:20260419T111840
CREATED:20231129T100126Z
LAST-MODIFIED:20231129T100126Z
UID:18120-1701457200-1701468000@airdrielife.com
SUMMARY:Vintage Express live at Atlas Brewing
DESCRIPTION:Let’s rock out with the Vintage Express five-piece band! Get ready to sing along with all your favourites! It’s going to be so much fun that you might just feel like getting up and dancing – which we highly recommend. No cover charge for this rockin’ night of great live music.
URL:https://airdrielife.com/event/vintage-express-live-at-atlas-brewing/
LOCATION:Atlas Brewing\, 2000 Market St #100\, Airdrie\, Ab\, Canada
END:VEVENT
BEGIN:VEVENT
DTSTART;TZID=America/Edmonton:20231103T190000
DTEND;TZID=America/Edmonton:20231103T230000
DTSTAMP:20260419T111840
CREATED:20231101T020838Z
LAST-MODIFIED:20231101T020838Z
UID:17800-1699038000-1699052400@airdrielife.com
SUMMARY:Live Music: Jamie Allanach
DESCRIPTION:Hailing from Scotland\, Jamie is a passionate\, energetic and enjoyable performer with a unique slant on an eclectic mix of music. With an ever expanding repertoire reaching as far back as the 1930’s\, including genres such as rock\, pop\, folk\, reggae\, indie\, R&B\, soul\, blues and country\, Jamie is going to show us a great time!
URL:https://airdrielife.com/event/live-music-jamie-allanach/
LOCATION:Atlas Brewing\, 2000 Market St #100\, Airdrie\, Ab\, Canada
ATTACH;FMTTYPE=image/jpeg:https://airdrielife.com/wp-content/uploads/2023/10/jamie.jpg
END:VEVENT
BEGIN:VEVENT
DTSTART;TZID=America/Edmonton:20221211T110000
DTEND;TZID=America/Edmonton:20221211T170000
DTSTAMP:20260419T111840
CREATED:20221207T075720Z
LAST-MODIFIED:20221207T075720Z
UID:15603-1670756400-1670778000@airdrielife.com
SUMMARY:Winter Warm Up
DESCRIPTION:Bring the kids (or the kids-at-heart) and decorate a gingerbread house in the Atlas taproom on Sunday\, December 11! We’ll have PRE-ASSEMBLED gingerbread houses waiting to be decorated in holiday magic. Mulled Phule’s Gold apple pie cider for the 18+ crowd and hot chocolate for the under-18s and non-drinkers (drinks sold separately). ✨ First come\, first served while supplies last. $20 per gingerbread house.
URL:https://airdrielife.com/event/winter-warm-up/
LOCATION:Atlas Brewing\, 2000 Market St #100\, Airdrie\, Ab\, Canada
ATTACH;FMTTYPE=image/jpeg:https://airdrielife.com/wp-content/uploads/2022/12/winter-warm-up.jpg
END:VEVENT
BEGIN:VEVENT
DTSTART;TZID=America/Edmonton:20221006T190000
DTEND;TZID=America/Edmonton:20221006T203000
DTSTAMP:20260419T111840
CREATED:20221004T050140Z
LAST-MODIFIED:20221004T050140Z
UID:15129-1665082800-1665088200@airdrielife.com
SUMMARY:Windwood Music Festival - Beer with Buddies
DESCRIPTION:Creative Project by Troy – “Beer with Buddies”
URL:https://airdrielife.com/event/windwood-music-festival-beer-with-buddies/
LOCATION:Atlas Brewing\, 2000 Market St #100\, Airdrie\, Ab\, Canada
ATTACH;FMTTYPE=image/jpeg:https://airdrielife.com/wp-content/uploads/2022/10/0718_Food_Beer_art__t1000.jpeg
END:VEVENT
BEGIN:VEVENT
DTSTART;TZID=America/Edmonton:20220406T183000
DTEND;TZID=America/Edmonton:20220406T210000
DTSTAMP:20260419T111840
CREATED:20220319T045734Z
LAST-MODIFIED:20220319T045734Z
UID:14095-1649269800-1649278800@airdrielife.com
SUMMARY:REALTORS JUST WANT TO HAVE FUN
DESCRIPTION:Kick off your heels! Put down your phone! Let’s talk about the pain points when it comes to running YOUR business.\n\n\n\n\n\n\n\nPanel Discussion and Q&A with local experts: \nKristen Reid – Hassett & Reid LLP \n\nEstate Planning – Enduring Power of Attorney\n\nTonya Moore – The Moore Co. \n\nBookkeeping & Accounting\n\nKate Norris- First & Main Financial Services Inc \n\nFinancial Planning and Tax Strategies\n\n*AMAZING Swag Bags* \n*New business head-shot* \n*Local beer and cider + appetizers \n*Invaluable information to excel your company* \nPurchase tickets HERE.
URL:https://airdrielife.com/event/realtors-just-want-to-have-fun/
LOCATION:Atlas Brewing\, 2000 Market St #100\, Airdrie\, Ab\, Canada
END:VEVENT
BEGIN:VEVENT
DTSTART;TZID=America/Edmonton:20220125T190000
DTEND;TZID=America/Edmonton:20220125T210000
DTSTAMP:20260419T111840
CREATED:20220112T025408Z
LAST-MODIFIED:20220112T043539Z
UID:13422-1643137200-1643144400@airdrielife.com
SUMMARY:An Evening with Plaid Floyd
DESCRIPTION:Join us and enjoy the musical stylings of incredible one man show Plaid Floyd! \nEnjoy songs from classic rock band Pink Floyd while enjoying our craft brews. Order in food and make it a night out! No cover charge. In order to be open\, we must work with the Restrictions Exemption Program. Tables and chairs are sanitized after use. We will do all we can do ensure a safe and enjoyable event!
URL:https://airdrielife.com/event/an-evening-with-plaid-floyd/
LOCATION:Atlas Brewing\, 2000 Market St #100\, Airdrie\, Ab\, Canada
END:VEVENT
END:VCALENDAR