BEGIN:VCALENDAR
VERSION:2.0
PRODID:-//airdrielife magazine - ECPv6.15.12.2//NONSGML v1.0//EN
CALSCALE:GREGORIAN
METHOD:PUBLISH
X-WR-CALNAME:airdrielife magazine
X-ORIGINAL-URL:https://airdrielife.com
X-WR-CALDESC:Events for airdrielife magazine
REFRESH-INTERVAL;VALUE=DURATION:PT1H
X-Robots-Tag:noindex
X-PUBLISHED-TTL:PT1H
BEGIN:VTIMEZONE
TZID:America/Edmonton
BEGIN:DAYLIGHT
TZOFFSETFROM:-0700
TZOFFSETTO:-0600
TZNAME:MDT
DTSTART:20210314T090000
END:DAYLIGHT
BEGIN:STANDARD
TZOFFSETFROM:-0600
TZOFFSETTO:-0700
TZNAME:MST
DTSTART:20211107T080000
END:STANDARD
BEGIN:DAYLIGHT
TZOFFSETFROM:-0700
TZOFFSETTO:-0600
TZNAME:MDT
DTSTART:20220313T090000
END:DAYLIGHT
BEGIN:STANDARD
TZOFFSETFROM:-0600
TZOFFSETTO:-0700
TZNAME:MST
DTSTART:20221106T080000
END:STANDARD
BEGIN:DAYLIGHT
TZOFFSETFROM:-0700
TZOFFSETTO:-0600
TZNAME:MDT
DTSTART:20230312T090000
END:DAYLIGHT
BEGIN:STANDARD
TZOFFSETFROM:-0600
TZOFFSETTO:-0700
TZNAME:MST
DTSTART:20231105T080000
END:STANDARD
BEGIN:DAYLIGHT
TZOFFSETFROM:-0700
TZOFFSETTO:-0600
TZNAME:MDT
DTSTART:20240310T090000
END:DAYLIGHT
BEGIN:STANDARD
TZOFFSETFROM:-0600
TZOFFSETTO:-0700
TZNAME:MST
DTSTART:20241103T080000
END:STANDARD
BEGIN:DAYLIGHT
TZOFFSETFROM:-0700
TZOFFSETTO:-0600
TZNAME:MDT
DTSTART:20250309T090000
END:DAYLIGHT
BEGIN:STANDARD
TZOFFSETFROM:-0600
TZOFFSETTO:-0700
TZNAME:MST
DTSTART:20251102T080000
END:STANDARD
BEGIN:DAYLIGHT
TZOFFSETFROM:-0700
TZOFFSETTO:-0600
TZNAME:MDT
DTSTART:20260308T090000
END:DAYLIGHT
BEGIN:STANDARD
TZOFFSETFROM:-0600
TZOFFSETTO:-0700
TZNAME:MST
DTSTART:20261101T080000
END:STANDARD
END:VTIMEZONE
BEGIN:VEVENT
DTSTART;VALUE=DATE:20250701
DTEND;VALUE=DATE:20250702
DTSTAMP:20260419T221444
CREATED:20250618T030226Z
LAST-MODIFIED:20250618T031311Z
UID:22343-1751328000-1751414399@airdrielife.com
SUMMARY:Airdrie Pro Rodeo
DESCRIPTION:2025 AIRDRIE PRO RODEO!!! \nJune 27 – July 1\, 2025 \nAirdrieRodeo.com for tickets!
URL:https://airdrielife.com/event/airdrie-pro-rodeo/2025-07-01/
LOCATION:Airdrie Rodeo Grounds\, Range Rd 20\, Balzac\, Alberta\, T0M 0E0\, Canada
END:VEVENT
BEGIN:VEVENT
DTSTART;VALUE=DATE:20250630
DTEND;VALUE=DATE:20250701
DTSTAMP:20260419T221444
CREATED:20250618T030226Z
LAST-MODIFIED:20250618T031310Z
UID:22342-1751241600-1751327999@airdrielife.com
SUMMARY:Airdrie Pro Rodeo
DESCRIPTION:2025 AIRDRIE PRO RODEO!!! \nJune 27 – July 1\, 2025 \nAirdrieRodeo.com for tickets!
URL:https://airdrielife.com/event/airdrie-pro-rodeo/2025-06-30/
LOCATION:Airdrie Rodeo Grounds\, Range Rd 20\, Balzac\, Alberta\, T0M 0E0\, Canada
END:VEVENT
BEGIN:VEVENT
DTSTART;VALUE=DATE:20250629
DTEND;VALUE=DATE:20250630
DTSTAMP:20260419T221444
CREATED:20250618T030226Z
LAST-MODIFIED:20250618T031308Z
UID:22341-1751155200-1751241599@airdrielife.com
SUMMARY:Airdrie Pro Rodeo
DESCRIPTION:2025 AIRDRIE PRO RODEO!!! \nJune 27 – July 1\, 2025 \nAirdrieRodeo.com for tickets!
URL:https://airdrielife.com/event/airdrie-pro-rodeo/2025-06-29/
LOCATION:Airdrie Rodeo Grounds\, Range Rd 20\, Balzac\, Alberta\, T0M 0E0\, Canada
END:VEVENT
BEGIN:VEVENT
DTSTART;VALUE=DATE:20250628
DTEND;VALUE=DATE:20250629
DTSTAMP:20260419T221444
CREATED:20250618T030226Z
LAST-MODIFIED:20250618T031305Z
UID:22340-1751068800-1751155199@airdrielife.com
SUMMARY:Airdrie Pro Rodeo
DESCRIPTION:2025 AIRDRIE PRO RODEO!!! \nJune 27 – July 1\, 2025 \nAirdrieRodeo.com for tickets!
URL:https://airdrielife.com/event/airdrie-pro-rodeo/2025-06-28/
LOCATION:Airdrie Rodeo Grounds\, Range Rd 20\, Balzac\, Alberta\, T0M 0E0\, Canada
END:VEVENT
BEGIN:VEVENT
DTSTART;VALUE=DATE:20250627
DTEND;VALUE=DATE:20250628
DTSTAMP:20260419T221444
CREATED:20250618T030226Z
LAST-MODIFIED:20250618T031305Z
UID:22337-1750982400-1751068799@airdrielife.com
SUMMARY:Airdrie Pro Rodeo
DESCRIPTION:2025 AIRDRIE PRO RODEO!!! \nJune 27 – July 1\, 2025 \nAirdrieRodeo.com for tickets!
URL:https://airdrielife.com/event/airdrie-pro-rodeo/2025-06-27/
LOCATION:Airdrie Rodeo Grounds\, Range Rd 20\, Balzac\, Alberta\, T0M 0E0\, Canada
END:VEVENT
BEGIN:VEVENT
DTSTART;TZID=America/Edmonton:20220723T120000
DTEND;TZID=America/Edmonton:20220723T170000
DTSTAMP:20260419T221444
CREATED:20220706T003726Z
LAST-MODIFIED:20220706T003726Z
UID:14575-1658577600-1658595600@airdrielife.com
SUMMARY:Ranch Hand Competition
DESCRIPTION:The 2022 Ranch Hand Competition will take place July 23! Located at the Airdrie Rodeo Grounds\, approximately 6 km west of Airdrie on Hwy 567. Classes will include: \n\n\nOpen – branding\, team penning\, team sorting\, doctoring\, and trailer loading \n\n\nLadies – team penning\, team sorting and trailer loading \n\n\nKids’ calf scramble \n\n\nFood onsite: there will be a food truck onsite during the day and a catered supper after the event. Tickets are $20/plate for non-competitors and will be available at the event.
URL:https://airdrielife.com/event/ranch-hand-competition/
LOCATION:Airdrie Rodeo Grounds\, Range Rd 20\, Balzac\, Alberta\, T0M 0E0\, Canada
ATTACH;FMTTYPE=image/jpeg:https://airdrielife.com/wp-content/uploads/2022/07/ranch-hand-comp.jpg
END:VEVENT
END:VCALENDAR