BEGIN:VCALENDAR
VERSION:2.0
PRODID:-//airdrielife magazine - ECPv6.15.12.2//NONSGML v1.0//EN
CALSCALE:GREGORIAN
METHOD:PUBLISH
X-ORIGINAL-URL:https://airdrielife.com
X-WR-CALDESC:Events for airdrielife magazine
REFRESH-INTERVAL;VALUE=DURATION:PT1H
X-Robots-Tag:noindex
X-PUBLISHED-TTL:PT1H
BEGIN:VTIMEZONE
TZID:America/Edmonton
BEGIN:DAYLIGHT
TZOFFSETFROM:-0700
TZOFFSETTO:-0600
TZNAME:MDT
DTSTART:20250309T090000
END:DAYLIGHT
BEGIN:STANDARD
TZOFFSETFROM:-0600
TZOFFSETTO:-0700
TZNAME:MST
DTSTART:20251102T080000
END:STANDARD
BEGIN:DAYLIGHT
TZOFFSETFROM:-0700
TZOFFSETTO:-0600
TZNAME:MDT
DTSTART:20260308T090000
END:DAYLIGHT
BEGIN:STANDARD
TZOFFSETFROM:-0600
TZOFFSETTO:-0700
TZNAME:MST
DTSTART:20261101T080000
END:STANDARD
BEGIN:DAYLIGHT
TZOFFSETFROM:-0700
TZOFFSETTO:-0600
TZNAME:MDT
DTSTART:20270314T090000
END:DAYLIGHT
BEGIN:STANDARD
TZOFFSETFROM:-0600
TZOFFSETTO:-0700
TZNAME:MST
DTSTART:20271107T080000
END:STANDARD
END:VTIMEZONE
BEGIN:VEVENT
DTSTART;TZID=America/Edmonton:20260419T110000
DTEND;TZID=America/Edmonton:20260419T140000
DTSTAMP:20260421T034807
CREATED:20260408T065019Z
LAST-MODIFIED:20260408T065141Z
UID:24886-1776596400-1776607200@airdrielife.com
SUMMARY:Spring Container Workshop
DESCRIPTION:Welcome the season with a hands on Spring Container Workshop at Blue Grass Garden Centre! Join us in the greenhouse as our team guides you through creating a beautiful spring planter to brighten up your porch\, patio\, or entryway. \nIn this workshop\, you’ll:\n– Design and plant your own spring container\n– Learn simple plant combination and design tips\n– Get guidance from our gardening team\n– Take home a beautiful seasonal planter \nWhat’s included:\nContainer\, soil\, and a selection of spring plants. \nPerfect for beginners and plant lovers alike. Come enjoy a relaxed\, creative experience surrounded by spring blooms—we can’t wait to see you in the greenhouse! \nAll materials and workshop supplies are included. Blue Grass reserves the right to cancel the workshop within 48 hours due to low enrollment. Picture is a representation and not the final product. \nSpaces are limited\, so be sure to reserve your spot today!
URL:https://airdrielife.com/event/spring-container-workshop/2026-04-19/
ATTACH;FMTTYPE=image/jpeg:https://airdrielife.com/wp-content/uploads/2026/04/Spring-Container-FB-Event-Cover-1920x1080-1-6c005efa78818f2f114c12341d7f1edc.jpg
END:VEVENT
END:VCALENDAR