BEGIN:VCALENDAR
VERSION:2.0
PRODID:-//airdrielife magazine - ECPv6.15.12.2//NONSGML v1.0//EN
CALSCALE:GREGORIAN
METHOD:PUBLISH
X-WR-CALNAME:airdrielife magazine
X-ORIGINAL-URL:https://airdrielife.com
X-WR-CALDESC:Events for airdrielife magazine
REFRESH-INTERVAL;VALUE=DURATION:PT1H
X-Robots-Tag:noindex
X-PUBLISHED-TTL:PT1H
BEGIN:VTIMEZONE
TZID:America/Edmonton
BEGIN:DAYLIGHT
TZOFFSETFROM:-0700
TZOFFSETTO:-0600
TZNAME:MDT
DTSTART:20210314T090000
END:DAYLIGHT
BEGIN:STANDARD
TZOFFSETFROM:-0600
TZOFFSETTO:-0700
TZNAME:MST
DTSTART:20211107T080000
END:STANDARD
BEGIN:DAYLIGHT
TZOFFSETFROM:-0700
TZOFFSETTO:-0600
TZNAME:MDT
DTSTART:20220313T090000
END:DAYLIGHT
BEGIN:STANDARD
TZOFFSETFROM:-0600
TZOFFSETTO:-0700
TZNAME:MST
DTSTART:20221106T080000
END:STANDARD
BEGIN:DAYLIGHT
TZOFFSETFROM:-0700
TZOFFSETTO:-0600
TZNAME:MDT
DTSTART:20230312T090000
END:DAYLIGHT
BEGIN:STANDARD
TZOFFSETFROM:-0600
TZOFFSETTO:-0700
TZNAME:MST
DTSTART:20231105T080000
END:STANDARD
END:VTIMEZONE
BEGIN:VEVENT
DTSTART;TZID=America/Edmonton:20220605T110000
DTEND;TZID=America/Edmonton:20220605T160000
DTSTAMP:20260424T063134
CREATED:20220530T171121Z
LAST-MODIFIED:20220530T171121Z
UID:14362-1654426800-1654444800@airdrielife.com
SUMMARY:Iron Horse Park
DESCRIPTION:The miniature trains\, track and landscape at Iron Horse Park represent the Canadian Pacific Railway (CPR) from the prairies to the coast. Take the 1.6km interpretive journey aboard one of the 1/8th scale diesel or steam locomotives at the park and get a feeling of what the railway was like in Western Canada during the pioneer days. The journey will take you over hills\, across trestles and through tunnels across the varied landscape. \nAdmission to the park is free. The cost of journeys is $3.00 each. Ticket Bundles of 8 for $20.00 are also available. We accept Visa\, MasterCard and Debit cards at the register! Cash is still accepted as well. Children under the age of 3 ride for free but must be accompanied by an adult. \nSnacks and souvenirs can be found in the full size replica of a CPR station on site. Picnic tables on site provide a place for small family gatherings. \nSmoking\, Pets\, Alcoholic Beverages and Private BBQ’s or Hibachis are not permitted on the site on public run days. \n 
URL:https://airdrielife.com/event/iron-horse-park/2022-06-05/
LOCATION:Iron Horse Park\, Railway Gate SW\, Airdrie\, Alberta\, T4B 3H8\, Canada
ATTACH;FMTTYPE=image/jpeg:https://airdrielife.com/wp-content/uploads/2022/05/ironhorse-park.jpg
END:VEVENT
END:VCALENDAR