BEGIN:VCALENDAR
VERSION:2.0
PRODID:-//airdrielife magazine - ECPv6.15.12.2//NONSGML v1.0//EN
CALSCALE:GREGORIAN
METHOD:PUBLISH
X-WR-CALNAME:airdrielife magazine
X-ORIGINAL-URL:https://airdrielife.com
X-WR-CALDESC:Events for airdrielife magazine
REFRESH-INTERVAL;VALUE=DURATION:PT1H
X-Robots-Tag:noindex
X-PUBLISHED-TTL:PT1H
BEGIN:VTIMEZONE
TZID:America/Edmonton
BEGIN:DAYLIGHT
TZOFFSETFROM:-0700
TZOFFSETTO:-0600
TZNAME:MDT
DTSTART:20250309T090000
END:DAYLIGHT
BEGIN:STANDARD
TZOFFSETFROM:-0600
TZOFFSETTO:-0700
TZNAME:MST
DTSTART:20251102T080000
END:STANDARD
BEGIN:DAYLIGHT
TZOFFSETFROM:-0700
TZOFFSETTO:-0600
TZNAME:MDT
DTSTART:20260308T090000
END:DAYLIGHT
BEGIN:STANDARD
TZOFFSETFROM:-0600
TZOFFSETTO:-0700
TZNAME:MST
DTSTART:20261101T080000
END:STANDARD
BEGIN:DAYLIGHT
TZOFFSETFROM:-0700
TZOFFSETTO:-0600
TZNAME:MDT
DTSTART:20270314T090000
END:DAYLIGHT
BEGIN:STANDARD
TZOFFSETFROM:-0600
TZOFFSETTO:-0700
TZNAME:MST
DTSTART:20271107T080000
END:STANDARD
END:VTIMEZONE
BEGIN:VEVENT
DTSTART;TZID=America/Edmonton:20260425T100000
DTEND;TZID=America/Edmonton:20260425T150000
DTSTAMP:20260421T034130
CREATED:20260408T064247Z
LAST-MODIFIED:20260408T064247Z
UID:24880-1777111200-1777129200@airdrielife.com
SUMMARY:BGC Airdrie Club Spring Markets
DESCRIPTION:Get ready to shop\, explore\, and celebrate the season at the BGC Airdrie Club Spring Markets! \n\n April 25 & 26\nMay 2 & 3\n10:00 AM – 3:00 PM\n200 East Lake Crescent (green door entrance at the north end of the Ron Ebbesen Arena)\nWhat to expect:\n• 30 unique vendors with amazing finds\n• Handmade goods\, gifts\, and spring-inspired treasures\n• A welcoming\, community-focused atmosphere\n\nAdmission: $2.00 (ages 13+)\nReceive a door prize ticket with every paid admission!\nDoor prizes generously donated by our incredible vendors\nBest of all: Every dollar from admissions and table rentals goes directly toward supporting programs and services for children\, youth\, and families in our community.\n\nBring your friends\, bring your family\, and come celebrate spring while making a difference!
URL:https://airdrielife.com/event/bgc-airdrie-club-spring-markets-2/2026-04-25/
ATTACH;FMTTYPE=image/jpeg:https://airdrielife.com/wp-content/uploads/2026/04/Spring-markets-2026.jpg
END:VEVENT
BEGIN:VEVENT
DTSTART;TZID=America/Edmonton:20260426T100000
DTEND;TZID=America/Edmonton:20260426T150000
DTSTAMP:20260421T034130
CREATED:20260408T064247Z
LAST-MODIFIED:20260408T064247Z
UID:24882-1777197600-1777215600@airdrielife.com
SUMMARY:BGC Airdrie Club Spring Markets
DESCRIPTION:Get ready to shop\, explore\, and celebrate the season at the BGC Airdrie Club Spring Markets! \n\n April 25 & 26\nMay 2 & 3\n10:00 AM – 3:00 PM\n200 East Lake Crescent (green door entrance at the north end of the Ron Ebbesen Arena)\nWhat to expect:\n• 30 unique vendors with amazing finds\n• Handmade goods\, gifts\, and spring-inspired treasures\n• A welcoming\, community-focused atmosphere\n\nAdmission: $2.00 (ages 13+)\nReceive a door prize ticket with every paid admission!\nDoor prizes generously donated by our incredible vendors\nBest of all: Every dollar from admissions and table rentals goes directly toward supporting programs and services for children\, youth\, and families in our community.\n\nBring your friends\, bring your family\, and come celebrate spring while making a difference!
URL:https://airdrielife.com/event/bgc-airdrie-club-spring-markets-2/2026-04-26/
ATTACH;FMTTYPE=image/jpeg:https://airdrielife.com/wp-content/uploads/2026/04/Spring-markets-2026.jpg
END:VEVENT
BEGIN:VEVENT
DTSTART;TZID=America/Edmonton:20260502T100000
DTEND;TZID=America/Edmonton:20260502T150000
DTSTAMP:20260421T034130
CREATED:20260408T064247Z
LAST-MODIFIED:20260408T064247Z
UID:24883-1777716000-1777734000@airdrielife.com
SUMMARY:BGC Airdrie Club Spring Markets
DESCRIPTION:Get ready to shop\, explore\, and celebrate the season at the BGC Airdrie Club Spring Markets! \n\n April 25 & 26\nMay 2 & 3\n10:00 AM – 3:00 PM\n200 East Lake Crescent (green door entrance at the north end of the Ron Ebbesen Arena)\nWhat to expect:\n• 30 unique vendors with amazing finds\n• Handmade goods\, gifts\, and spring-inspired treasures\n• A welcoming\, community-focused atmosphere\n\nAdmission: $2.00 (ages 13+)\nReceive a door prize ticket with every paid admission!\nDoor prizes generously donated by our incredible vendors\nBest of all: Every dollar from admissions and table rentals goes directly toward supporting programs and services for children\, youth\, and families in our community.\n\nBring your friends\, bring your family\, and come celebrate spring while making a difference!
URL:https://airdrielife.com/event/bgc-airdrie-club-spring-markets-2/2026-05-02/
ATTACH;FMTTYPE=image/jpeg:https://airdrielife.com/wp-content/uploads/2026/04/Spring-markets-2026.jpg
END:VEVENT
BEGIN:VEVENT
DTSTART;TZID=America/Edmonton:20260503T100000
DTEND;TZID=America/Edmonton:20260503T150000
DTSTAMP:20260421T034130
CREATED:20260408T064247Z
LAST-MODIFIED:20260408T064247Z
UID:24884-1777802400-1777820400@airdrielife.com
SUMMARY:BGC Airdrie Club Spring Markets
DESCRIPTION:Get ready to shop\, explore\, and celebrate the season at the BGC Airdrie Club Spring Markets! \n\n April 25 & 26\nMay 2 & 3\n10:00 AM – 3:00 PM\n200 East Lake Crescent (green door entrance at the north end of the Ron Ebbesen Arena)\nWhat to expect:\n• 30 unique vendors with amazing finds\n• Handmade goods\, gifts\, and spring-inspired treasures\n• A welcoming\, community-focused atmosphere\n\nAdmission: $2.00 (ages 13+)\nReceive a door prize ticket with every paid admission!\nDoor prizes generously donated by our incredible vendors\nBest of all: Every dollar from admissions and table rentals goes directly toward supporting programs and services for children\, youth\, and families in our community.\n\nBring your friends\, bring your family\, and come celebrate spring while making a difference!
URL:https://airdrielife.com/event/bgc-airdrie-club-spring-markets-2/2026-05-03/
ATTACH;FMTTYPE=image/jpeg:https://airdrielife.com/wp-content/uploads/2026/04/Spring-markets-2026.jpg
END:VEVENT
END:VCALENDAR